BEGIN:VCALENDAR
VERSION:2.0
PRODID:-//wp-events-plugin.com//7.2.3.1//EN
BEGIN:VEVENT
UID:89@bedsastro.org.uk
DTSTART;TZID=Europe/London:20260527T193000
DTEND;TZID=Europe/London:20260527T213000
DTSTAMP:20251015T172613Z
URL:https://bedsastro.org.uk/events/neptune-by-mike-foulkes/
SUMMARY:NEPTUNE by Mike Foulkes
DESCRIPTION:Mike Foulkes will present his talk on NEPTUNE in the QUARRY THE
 ATRE.\n\nPlease arrive by 7:15pm for a 7:30 pm commencement.\n\nQUARRY THE
 ATRE (School entrance) Please arrive by 7:15pm for a prompt start at 7:30p
 m.\n\nQUARRY THEATRE Entrance Google Maps : https://maps.app.goo.gl/aDnU2P
 nxpcMjNP179\n\nQUARRY THEATRE Entrance (What 3 Words) W3W : https://what3w
 ords.com/retail.held.desk\n\nParking in the main car park off De Parys Ave
 nue : https://maps.app.goo.gl/o2bsfTdaNnDbSz2a7\n\nParking W3W : https://w
 hat3words.com/faded.with.useful
CATEGORIES:Monthly Talk
LOCATION:Quarry Theatre\, Quarry Theatre\,\, Bedford\, Bedfordshire\,\, MK4
 0 2TU\,\, United Kingdom
GEO:52.139238;-0.464328
X-APPLE-STRUCTURED-LOCATION;VALUE=URI;X-ADDRESS=Quarry Theatre\,\, Bedford\
 , Bedfordshire\,\, MK40 2TU\,\, United Kingdom;X-APPLE-RADIUS=100;X-TITLE=
 Quarry Theatre:geo:52.139238,-0.464328
END:VEVENT
BEGIN:VTIMEZONE
TZID:Europe/London
X-LIC-LOCATION:Europe/London
BEGIN:DAYLIGHT
DTSTART:20260329T020000
TZOFFSETFROM:+0000
TZOFFSETTO:+0100
TZNAME:BST
END:DAYLIGHT
END:VTIMEZONE
END:VCALENDAR