BEGIN:VCALENDAR
VERSION:2.0
PRODID:-//wp-events-plugin.com//7.2.3.1//EN
BEGIN:VEVENT
UID:94@bedsastro.org.uk
DTSTART:20261125T193000Z
DTEND:20261125T213000Z
DTSTAMP:20260420T110432Z
URL:https://bedsastro.org.uk/events/marta-ceccaroni-will-present-apophis-w
 ill-change-the-orbit-of-our-debris/
SUMMARY:Marta Ceccaroni will present : Apophis will change the orbit of our
  debris
DESCRIPTION:Marta Ceccaroni will present her talk  in the ERSKINE MAY HALL
  on "Apophis will change the orbit of our debris".\n\nFollowed by the Sky 
 Diary for December.\n\nPlease arrive by 7:15pm for a prompt start at 7:30p
 m.\n\nERSKINE MAY HALL Entrance Google Maps : https://www.google.co.uk/map
 s/place/The+Erskine+May+Hall/@52.1397749\,-0.4643103\,19z/data=!4m14!1m7!3
 m6!1s0x4877b7ca197d2275:0xab2f0e81a65f4838!2sThe+Erskine+May+Hall!8m2!3d52
 .1401576!4d-0.4648825!16s%2Fg%2F11rjw33s0f!3m5!1s0x4877b7ca197d2275:0xab2f
 0e81a65f4838!8m2!3d52.1401576!4d-0.4648825!16s%2Fg%2F11rjw33s0f?entry=ttu\
 n\nERSKINE MAY HALL Entrance (What 3 Words) W3W : https://what3words.com/t
 ake.grin.lawn\n\nParking in the main car park off De Parys Avenue : https:
 //maps.app.goo.gl/o2bsfTdaNnDbSz2a7\n\nParking W3W : https://what3words.co
 m/faded.with.useful
CATEGORIES:Monthly Talk
LOCATION:Erskine May Hall\, Erskine May Hall\, Bedford\, United Kingdom
GEO:52.140158;-0.464883
X-APPLE-STRUCTURED-LOCATION;VALUE=URI;X-ADDRESS=Erskine May Hall\, Bedford\
 , United Kingdom;X-APPLE-RADIUS=100;X-TITLE=Erskine May Hall:geo:52.140158
 ,-0.464883
END:VEVENT
END:VCALENDAR